BEGIN:VCALENDAR
VERSION:2.0
PRODID:-//Chicago Music Guide - ECPv6.15.20//NONSGML v1.0//EN
CALSCALE:GREGORIAN
METHOD:PUBLISH
X-WR-CALNAME:Chicago Music Guide
X-ORIGINAL-URL:https://chicagomusic.guide
X-WR-CALDESC:Events for Chicago Music Guide
REFRESH-INTERVAL;VALUE=DURATION:PT1H
X-Robots-Tag:noindex
X-PUBLISHED-TTL:PT1H
BEGIN:VTIMEZONE
TZID:America/Chicago
BEGIN:DAYLIGHT
TZOFFSETFROM:-0600
TZOFFSETTO:-0500
TZNAME:CDT
DTSTART:20250309T080000
END:DAYLIGHT
BEGIN:STANDARD
TZOFFSETFROM:-0500
TZOFFSETTO:-0600
TZNAME:CST
DTSTART:20251102T070000
END:STANDARD
BEGIN:DAYLIGHT
TZOFFSETFROM:-0600
TZOFFSETTO:-0500
TZNAME:CDT
DTSTART:20260308T080000
END:DAYLIGHT
BEGIN:STANDARD
TZOFFSETFROM:-0500
TZOFFSETTO:-0600
TZNAME:CST
DTSTART:20261101T070000
END:STANDARD
BEGIN:DAYLIGHT
TZOFFSETFROM:-0600
TZOFFSETTO:-0500
TZNAME:CDT
DTSTART:20270314T080000
END:DAYLIGHT
BEGIN:STANDARD
TZOFFSETFROM:-0500
TZOFFSETTO:-0600
TZNAME:CST
DTSTART:20271107T070000
END:STANDARD
END:VTIMEZONE
BEGIN:VEVENT
DTSTART;TZID=America/Chicago:20260428T193000
DTEND;TZID=America/Chicago:20260428T230000
DTSTAMP:20260419T093411
CREATED:20260415T135304Z
LAST-MODIFIED:20260415T135644Z
UID:93796-1777404600-1777417200@chicagomusic.guide
SUMMARY:An Evening With Vanessa Carlton: Veils Tour
DESCRIPTION:An Evening With Vanessa Carlton: Veils Tour\n04/28/2026\nTue 7:30 PM\nMain Stage\, City Winery Chicago\n1200 W. Randolph St.\nChicago 60607\nUnited States \nCity Winery Chicago Presents An Evening With Vanessa Carlton: Veils Tour for two shows on Tuesday\, April 28th at 7:30 PM; and Wednesday\, April 29th at 7:30 PM! See all Vanessa Carlton dates and times.(opens in a new tab)\nJoin us for an intimate evening with Vanessa Carlton\, the Grammy-nominated singer-songwriter and pianist whose captivating voice and timeless melodies have made her one of the most distinctive artists of her generation. Known for her iconic debut hit “A Thousand Miles\,” Carlton has continued to evolve far beyond her pop beginnings\, crafting a rich catalog of introspective\, emotionally charged music that blends raw honesty with poetic depth. \nAt City Winery\, audiences will experience Carlton’s music in its most powerful form: up close and personal. Her storytelling\, humor\, and musical prowess create a performance that feels both grand and deeply human. \nDon’t miss this rare opportunity to see Vanessa Carlton in an intimate setting\, where every song\, every note\, and every moment connects straight to the heart. \nAn unforgettable night of artistry\, passion\, and connection.
URL:https://chicagomusic.guide/event/an-evening-with-vanessa-carlton-veils-tour/
LOCATION:City Winery\, 1200 W Randolph Street\, Chicago\, IL\, 60607\, United States
CATEGORIES:Live Performance
ATTACH;FMTTYPE=image/jpeg:https://chicagomusic.guide/wp-content/uploads/2026/04/Vanessa-Carlton.jpeg
END:VEVENT
END:VCALENDAR