BEGIN:VCALENDAR
VERSION:2.0
PRODID:-//Chicago Music Guide - ECPv6.15.20//NONSGML v1.0//EN
CALSCALE:GREGORIAN
METHOD:PUBLISH
X-WR-CALNAME:Chicago Music Guide
X-ORIGINAL-URL:https://chicagomusic.guide
X-WR-CALDESC:Events for Chicago Music Guide
REFRESH-INTERVAL;VALUE=DURATION:PT1H
X-Robots-Tag:noindex
X-PUBLISHED-TTL:PT1H
BEGIN:VTIMEZONE
TZID:America/Chicago
BEGIN:DAYLIGHT
TZOFFSETFROM:-0600
TZOFFSETTO:-0500
TZNAME:CDT
DTSTART:20250309T080000
END:DAYLIGHT
BEGIN:STANDARD
TZOFFSETFROM:-0500
TZOFFSETTO:-0600
TZNAME:CST
DTSTART:20251102T070000
END:STANDARD
BEGIN:DAYLIGHT
TZOFFSETFROM:-0600
TZOFFSETTO:-0500
TZNAME:CDT
DTSTART:20260308T080000
END:DAYLIGHT
BEGIN:STANDARD
TZOFFSETFROM:-0500
TZOFFSETTO:-0600
TZNAME:CST
DTSTART:20261101T070000
END:STANDARD
BEGIN:DAYLIGHT
TZOFFSETFROM:-0600
TZOFFSETTO:-0500
TZNAME:CDT
DTSTART:20270314T080000
END:DAYLIGHT
BEGIN:STANDARD
TZOFFSETFROM:-0500
TZOFFSETTO:-0600
TZNAME:CST
DTSTART:20271107T070000
END:STANDARD
END:VTIMEZONE
BEGIN:VEVENT
DTSTART;TZID=America/Chicago:20260501T193000
DTEND;TZID=America/Chicago:20260501T233000
DTSTAMP:20260419T093314
CREATED:20260415T140917Z
LAST-MODIFIED:20260415T140917Z
UID:93804-1777663800-1777678200@chicagomusic.guide
SUMMARY:Jeff Mauro Live: From Clown to King
DESCRIPTION:Jeff Mauro Live: From Clown to King\nCity Winery Chicago Presents Food Network’s Jeff Mauro Live – From Clown to King on Friday\, May 1st at 7:30 PM!  \nJeff Mauro brings his larger than life personality\, culinary creativity\, and Chicago born humor to the stage for a one of a kind live experience. Known to millions as the Food Network’s beloved “Sandwich King\,” Mauro blends food\, comedy\, music\, and storytelling into a high energy evening that feels part variety show\, part comedy set\, and part neighborhood deli hang. \nAn Emmy nominated celebrity chef and winner of Food Network Star Season 7\, Jeff built his career by combining professional culinary chops with a natural gift for entertaining. He went on to host the Emmy nominated Sandwich Kingand currently co hosts the long running Food Network favorite The Kitchen. Fans also know him from appearances on Worst Cooks in America and as host of Holiday Wars. Beyond television\, Mauro is the founder of Mauro Provision\, a growing line of craft giardiniera\, sauces\, deli meats\, rubs\, pizzas\, and legendary sandwich kits. \nDuring this special live show\, Jeff shares hilarious stories from his career\, performs music\, talks food\, and celebrates the flavors and culture that shaped him. Expect laughs\, surprises\, and plenty of sandwich inspired storytelling. \nJoin us for a lively evening of comedy\, music\, food talk\, and unforgettable entertainment with one of Chicago’s most charismatic culinary personalities(opens in a new tab)(opens in a new tab).
URL:https://chicagomusic.guide/event/jeff-mauro-live-from-clown-to-king/
LOCATION:City Winery\, 1200 W Randolph Street\, Chicago\, IL\, 60607\, United States
CATEGORIES:Live Performance
ATTACH;FMTTYPE=image/jpeg:https://chicagomusic.guide/wp-content/uploads/2026/04/Jeff-Mauro-Live-From-Clown-to-King.jpeg
END:VEVENT
END:VCALENDAR