BEGIN:VCALENDAR
VERSION:2.0
PRODID:-//Chicago Music Guide - ECPv6.15.20//NONSGML v1.0//EN
CALSCALE:GREGORIAN
METHOD:PUBLISH
X-WR-CALNAME:Chicago Music Guide
X-ORIGINAL-URL:https://chicagomusic.guide
X-WR-CALDESC:Events for Chicago Music Guide
REFRESH-INTERVAL;VALUE=DURATION:PT1H
X-Robots-Tag:noindex
X-PUBLISHED-TTL:PT1H
BEGIN:VTIMEZONE
TZID:America/Chicago
BEGIN:DAYLIGHT
TZOFFSETFROM:-0600
TZOFFSETTO:-0500
TZNAME:CDT
DTSTART:20250309T080000
END:DAYLIGHT
BEGIN:STANDARD
TZOFFSETFROM:-0500
TZOFFSETTO:-0600
TZNAME:CST
DTSTART:20251102T070000
END:STANDARD
BEGIN:DAYLIGHT
TZOFFSETFROM:-0600
TZOFFSETTO:-0500
TZNAME:CDT
DTSTART:20260308T080000
END:DAYLIGHT
BEGIN:STANDARD
TZOFFSETFROM:-0500
TZOFFSETTO:-0600
TZNAME:CST
DTSTART:20261101T070000
END:STANDARD
BEGIN:DAYLIGHT
TZOFFSETFROM:-0600
TZOFFSETTO:-0500
TZNAME:CDT
DTSTART:20270314T080000
END:DAYLIGHT
BEGIN:STANDARD
TZOFFSETFROM:-0500
TZOFFSETTO:-0600
TZNAME:CST
DTSTART:20271107T070000
END:STANDARD
END:VTIMEZONE
BEGIN:VEVENT
DTSTART;TZID=America/Chicago:20260502T120000
DTEND;TZID=America/Chicago:20260502T170000
DTSTAMP:20260422T141002
CREATED:20260415T143121Z
LAST-MODIFIED:20260415T143121Z
UID:93807-1777723200-1777741200@chicagomusic.guide
SUMMARY:Brunch with Ian Maksin & Gabriel Datcu
DESCRIPTION:Brunch with Ian Maksin & Gabriel Datcu\nCity Winery Chicago Presents Brunch with Ian Maksin & Gabriel Datcu live on Saturday\, May 2nd at 12:00 PM! (opens in a new tab)(opens in a new tab)\nIan Maksin returns for a special brunch performance featuring his signature cross cultural sound and electrifying musicianship\, joined by acclaimed guitarist Gabriel Datcu for a truly global musical journey. \nA cellist\, vocalist\, and composer known for his genre defying artistry\, Maksin creates performances that move seamlessly across musical traditions. With roots in jazz\, classical\, rock\, blues\, bossa nova\, and world folk music\, his concerts weave together sounds and stories from dozens of cultures and more than 40 languages. \nThis vibrant afternoon performance will feature everything from French chansons and Italian ballads to songs in Spanish\, Polish\, Ukrainian\, Russian\, Macedonian\, Turkish\, and Farsi. Audiences can also expect original instrumental compositions inspired by the traditional music of West Africa and the Middle East\, alongside bold reinterpretations of works by legends such as Duke Ellington\, Miles Davis\, Pat Metheny\, Chick Corea\, Sting\, and Leonard Cohen. \nFeaturing Ian Maksin on cello and vocals and Gabriel Datcu on guitar\, this dynamic duo delivers an unforgettable live experience filled with rich global influences\, virtuosic musicianship\, and captivating storytelling. Join us for an inspiring brunch performance and reserve your seats today.
URL:https://chicagomusic.guide/event/brunch-with-ian-maksin-gabriel-datcu/
LOCATION:City Winery\, 1200 W Randolph Street\, Chicago\, IL\, 60607\, United States
CATEGORIES:Live Performance
ATTACH;FMTTYPE=image/jpeg:https://chicagomusic.guide/wp-content/uploads/2026/04/Brunch-with-Ian-Maksin-Gabriel-Datcu.jpeg
END:VEVENT
END:VCALENDAR