BEGIN:VCALENDAR
VERSION:2.0
PRODID:-//Chicago Music Guide - ECPv6.15.20//NONSGML v1.0//EN
CALSCALE:GREGORIAN
METHOD:PUBLISH
X-ORIGINAL-URL:https://chicagomusic.guide
X-WR-CALDESC:Events for Chicago Music Guide
REFRESH-INTERVAL;VALUE=DURATION:PT1H
X-Robots-Tag:noindex
X-PUBLISHED-TTL:PT1H
BEGIN:VTIMEZONE
TZID:America/Chicago
BEGIN:DAYLIGHT
TZOFFSETFROM:-0600
TZOFFSETTO:-0500
TZNAME:CDT
DTSTART:20250309T080000
END:DAYLIGHT
BEGIN:STANDARD
TZOFFSETFROM:-0500
TZOFFSETTO:-0600
TZNAME:CST
DTSTART:20251102T070000
END:STANDARD
BEGIN:DAYLIGHT
TZOFFSETFROM:-0600
TZOFFSETTO:-0500
TZNAME:CDT
DTSTART:20260308T080000
END:DAYLIGHT
BEGIN:STANDARD
TZOFFSETFROM:-0500
TZOFFSETTO:-0600
TZNAME:CST
DTSTART:20261101T070000
END:STANDARD
BEGIN:DAYLIGHT
TZOFFSETFROM:-0600
TZOFFSETTO:-0500
TZNAME:CDT
DTSTART:20270314T080000
END:DAYLIGHT
BEGIN:STANDARD
TZOFFSETFROM:-0500
TZOFFSETTO:-0600
TZNAME:CST
DTSTART:20271107T070000
END:STANDARD
END:VTIMEZONE
BEGIN:VEVENT
DTSTART;TZID=America/Chicago:20260422T190000
DTEND;TZID=America/Chicago:20260422T230000
DTSTAMP:20260419T080222
CREATED:20260413T132957Z
LAST-MODIFIED:20260413T132957Z
UID:93762-1776884400-1776898800@chicagomusic.guide
SUMMARY:Bob Moses & Cannons: Afterglow Tour with Oxis
DESCRIPTION:Bob Moses & Cannons: Afterglow Tour with Oxis\nWed April 22\nDoors: 6:30PM\nBob Moses & Cannons: Afterglow Tour with Oxis\n17 & Over \nThe Salt Shed Indoors (Shed)
URL:https://chicagomusic.guide/event/bob-moses-cannons-afterglow-tour-with-oxis/
LOCATION:Salt Shed\, 1357 North Elston Avenue\, Chicago\, IL\, 60642\, United States
CATEGORIES:Live Performance
ATTACH;FMTTYPE=image/jpeg:https://chicagomusic.guide/wp-content/uploads/2026/04/Bob-Moses.jpg
END:VEVENT
END:VCALENDAR